BEGIN:VCALENDAR
VERSION:2.0
PRODID:spatie/icalendar-generator
DESCRIPTION:Évènements de ADSE
X-WR-CALDESC:Évènements de ADSE
REFRESH-INTERVAL;VALUE=DURATION:PT1440M
X-PUBLISHED-TTL:PT1440M
BEGIN:VTIMEZONE
TZID:Etc/GMT-1
BEGIN:STANDARD
DTSTART:20250929T080000Z
TZOFFSETFROM:+0100
TZOFFSETTO:+0100
END:STANDARD
END:VTIMEZONE
BEGIN:VTIMEZONE
TZID:UTC
BEGIN:STANDARD
DTSTART:20250725T083209Z
TZOFFSETFROM:+0000
TZOFFSETTO:+0000
END:STANDARD
END:VTIMEZONE
BEGIN:VEVENT
UID:46-43
DTSTAMP:20260421T083209Z
SUMMARY:les 28èmes Journées du Patrimoine de Pays
LOCATION:
ORGANIZER;CN=ADSE:MAILTO:adse.saintescobille@gmail.com
DTSTART;TZID=Etc/GMT-1:20260626T080000
DTEND;TZID=Etc/GMT-1:20260628T220000
X-ALT-DESC;FMTTYPE=TEXT/HTML:Du 26 au 28 juin 2026\, les 28èmes Journées 
 du Patrimoine de Pays inviteront petits et grands à découvrir le patrimo
 ine local\, non protégé\, partout en France. Depuis 1998\, cette manifes
 tation nationale met en lumière un patrimoine précieux\, celui des villa
 ges\, des paysages\, des architectures du quotidien et des savoir-faire lo
 caux. La manifestation est portée…
CATEGORIES:agenda
URL;VALUE=URI:https://www.adse-saintescobille.com/mc-events/les-28emes-jour
 nees-du-patrimoine-de-pays/
METHOD:PUBLISH
END:VEVENT
END:VCALENDAR