BEGIN:VCALENDAR
VERSION:2.0
PRODID:spatie/icalendar-generator
DESCRIPTION:Évènements de ADSE
X-WR-CALDESC:Évènements de ADSE
REFRESH-INTERVAL;VALUE=DURATION:PT1440M
X-PUBLISHED-TTL:PT1440M
BEGIN:VTIMEZONE
TZID:Etc/GMT-1
BEGIN:STANDARD
DTSTART:20250826T090000Z
TZOFFSETFROM:+0100
TZOFFSETTO:+0100
END:STANDARD
END:VTIMEZONE
BEGIN:VTIMEZONE
TZID:UTC
BEGIN:STANDARD
DTSTART:20250728T150317Z
TZOFFSETFROM:+0000
TZOFFSETTO:+0000
END:STANDARD
END:VTIMEZONE
BEGIN:VEVENT
UID:48-45
DTSTAMP:20260424T150317Z
SUMMARY:sortie nature Angerville
LOCATION:
ORGANIZER;CN=ADSE:MAILTO:adse.saintescobille@gmail.com
DTSTART;TZID=Etc/GMT-1:20260523T090000
DTEND;TZID=Etc/GMT-1:20260523T120000
X-ALT-DESC;FMTTYPE=TEXT/HTML:Initiation à la photographie nature Dans le c
 adre de l'Atlas de la Biodiversité Communale d'Angerville\, le Conservato
 ire d'espaces naturels d'île-de-France organise en partenariat avec l'ADC
 A et le club photo de la commune une animation sur l'initiation à la phot
 ographie nature le samedi 23 mai de 9h à 12h. Il est conseillé de prévo
 ir des chaussures…
CATEGORIES:agenda
URL;VALUE=URI:https://www.adse-saintescobille.com/mc-events/sortie-nature-a
 ngerville/
METHOD:PUBLISH
END:VEVENT
END:VCALENDAR