BEGIN:VCALENDAR
VERSION:2.0
PRODID:spatie/icalendar-generator
DESCRIPTION:Évènements de ADSE
X-WR-CALDESC:Évènements de ADSE
REFRESH-INTERVAL;VALUE=DURATION:PT1440M
X-PUBLISHED-TTL:PT1440M
BEGIN:VTIMEZONE
TZID:Etc/GMT-1
BEGIN:STANDARD
DTSTART:20250820T093000Z
TZOFFSETFROM:+0100
TZOFFSETTO:+0100
END:STANDARD
END:VTIMEZONE
BEGIN:VTIMEZONE
TZID:UTC
BEGIN:STANDARD
DTSTART:20250724T033611Z
TZOFFSETFROM:+0000
TZOFFSETTO:+0000
END:STANDARD
END:VTIMEZONE
BEGIN:VEVENT
UID:47-44
DTSTAMP:20260420T033611Z
SUMMARY:répare café 17 mai 2026
LOCATION:
ORGANIZER;CN=ADSE:MAILTO:adse.saintescobille@gmail.com
DTSTART;TZID=Etc/GMT-1:20260517T093000
DTEND;TZID=Etc/GMT-1:20260517T120000
X-ALT-DESC;FMTTYPE=TEXT/HTML:Le 19 avril\, les visiteurs sont venus nombreu
 x avec divers appareils et les «  réparacteurs » ont fait preuve de pa
 tience autant que de compétence. Après de multiples manipulations la caf
 etière à dosettes ne fuit plus. Le vélo est maintenant révisé. Le net
 toyeur vapeur fonctionne parfaitement. Mais la machine à coudre devra rev
 enir une troisième…
CATEGORIES:agenda
URL;VALUE=URI:https://www.adse-saintescobille.com/mc-events/repare-cafe-17-
 mai-2026/
METHOD:PUBLISH
END:VEVENT
END:VCALENDAR